{"text_format":"1","workbook":"xlsx","n_sheets":7,"sheets":["OVERVIEW","Course_Answers","Control_Card","MASTER_Q's_31_65","MASTER_Q's_66_100","Course_Questions_CW_31_65","Info_Sheet"],"not_rendered":{"charts":0,"images":2,"macros":0,"external_links":0,"defined_names":9,"comments":0,"pivot_tables":0},"unopened":[],"bounds":{"document_bytes":16777216,"sheet_cells":100000,"rows_first":2000,"rows_last":500,"rows_between":2000,"halvings":0,"cell_chars":16384,"cell_head_chars":4096},"cells_cut":0,"cells_raw":0,"read":"whole","date_system":"1900"}

{"sheet":"OVERVIEW","index":0,"n_rows":10,"n_cols":3,"rows_kept":10,"cut":false,"hidden":false,"merged":[[1,2,1,12],[9,2,9,12]]}
[]
[null,null,"Topic 2 - FRACTIONS"]
[]
[]
[]
[]
[]
[]
[]
[null,null,"Produced by mathsrevision.com in conjunction with                                                                       St.Andrew's Orienteering Club (Glasgow)"]

{"sheet":"Course_Answers","index":1,"n_rows":12,"n_cols":20,"rows_kept":12,"cut":false,"hidden":false,"merged":[[10,4,10,6],[11,4,11,6],[1,4,1,6],[10,7,11,8],[2,4,2,6],[3,4,3,6],[4,4,4,6],[5,4,5,6],[6,4,6,6],[7,4,7,6],[8,4,8,6],[9,4,9,6],[6,7,7,8],[8,7,9,8],[6,19,7,20],[8,19,9,20],[10,19,11,20],[1,7,1,8],[1,9,1,18],[2,7,3,8],[4,7,5,8],[2,19,3,20],[4,19,5,20],[1,19,1,20]]}
[]
[null,null,null,null,"Control Card",null,null,"COURSE",null,"Fractions Topic 2 - ANSWERS",null,null,null,null,null,null,null,null,null,"Total"]
[null,null,null,null,"Question answers",null,null,"M",null,42,null,60,null,56,null,59,null,49,null,{"$f":"SUM(J3,L3,N3,P3,R3)","v":266}]
[null,null,null,null,"Control Letter",null,null,null,null,null,"W",null,"A",null,"T",null,"L",null,"M"]
[null,null,null,null,"Question answers",null,null,"P",null,53,null,44,null,46,null,37,null,50,null,{"$f":"SUM(J5,L5,N5,P5,R5)","v":230}]
[null,null,null,null,"Control Letter",null,null,null,null,null,"V",null,"F",null,"X",null,"C",null,"P"]
[null,null,null,null,"Question answers",null,null,"R",null,43,null,61,null,62,null,48,null,40,null,{"$f":"SUM(J7,L7,N7,P7,R7)","v":254}]
[null,null,null,null,"Control Letter",null,null,null,null,null,"N",null,"Z",null,"Y",null,"U",null,"R"]
[null,null,null,null,"Question answers",null,null,"S",null,54,null,34,null,47,null,38,null,51,null,{"$f":"SUM(J9,L9,N9,P9,R9)","v":224}]
[null,null,null,null,"Control Letter",null,null,null,null,null,"E",null,"Q",null,"J",null,"K",null,"S"]
[null,null,null,null,"Question answers",null,null,"B",null,65,null,32,null,63,null,36,null,39,null,{"$f":"SUM(J11,L11,N11,P11,R11)","v":235}]
[null,null,null,null,"Control Letter",null,null,null,null,null,"G",null,"H",null,"D",null,"I",null,"B"]

{"sheet":"Control_Card","index":2,"n_rows":20,"n_cols":36,"rows_kept":20,"cut":false,"hidden":false,"merged":[[18,16,19,17],[10,16,11,17],[13,16,13,17],[14,16,15,17],[1,35,1,36],[2,35,3,36],[5,35,5,36],[6,35,7,36],[9,35,9,36],[10,35,11,36],[13,35,13,36],[14,35,15,36],[17,35,17,36],[18,35,19,36],[18,20,18,22],[18,23,19,24],[2,1,2,3],[3,1,3,3],[1,1,1,3],[6,1,6,3],[18,4,19,5],[2,4,3,5],[6,4,7,5],[10,4,11,5],[14,4,15,5],[18,1,18,3],[19,1,19,3],[5,1,5,3],[9,1,9,3],[13,1,13,3],[17,1,17,3],[7,1,7,3],[10,1,10,3],[11,1,11,3],[14,1,14,3],[15,1,15,3],[5,20,5,22],[6,20,6,22],[13,4,13,15],[5,16,5,17],[6,16,7,17],[9,16,9,17],[19,20,19,22],[13,20,13,22],[14,20,14,22],[14,23,15,24],[15,20,15,22],[17,23,17,34],[13,23,13,34],[1,4,1,15],[1,23,1,34],[5,23,5,34],[5,4,5,15],[9,4,9,15],[9,23,9,34],[6,23,7,24],[7,20,7,22],[1,20,1,22],[2,20,2,22],[2,23,3,24],[3,20,3,22],[1,16,1,17],[2,16,3,17],[17,4,17,15],[17,20,17,22],[9,20,9,22],[10,20,10,22],[10,23,11,24],[11,20,11,22],[17,16,17,17]]}
[]
[null,"Control Card",null,null,"Course : Fractions Name :",null,null,null,null,null,null,null,null,null,null,null,"Total",null,null,null,"Control Card",null,null,"Course : Fractions Name :",null,null,null,null,null,null,null,null,null,null,null,"Total"]
[null,"Questions",null,null,{"$f":"Course_Answers!H3","v":"M"},null,null,null,null,null,null,null,null,null,null,null,null,null,null,null,"Questions",null,null,{"$f":"E3","v":"M"}]
[null,"Control Letter",null,null,null,null,null,null,null,null,null,null,null,null,null,null,null,null,null,null,"Control Letter"]
[]
[null,"Control Card",null,null,"Course : Fractions Name :",null,null,null,null,null,null,null,null,null,null,null,"Total",null,null,null,"Control Card",null,null,"Course : Fractions Name :",null,null,null,null,null,null,null,null,null,null,null,"Total"]
[null,"Questions",null,null,{"$f":"Course_Answers!H5","v":"P"},null,null,null,null,null,null,null,null,null,null,null,null,null,null,null,"Questions",null,null,{"$f":"E7","v":"P"}]
[null,"Control Letter",null,null,null,null,null,null,null,null,null,null,null,null,null,null,null,null,null,null,"Control Letter"]
[]
[null,"Control Card",null,null,"Course : Fractions Name :",null,null,null,null,null,null,null,null,null,null,null,"Total",null,null,null,"Control Card",null,null,"Course : Fractions Name :",null,null,null,null,null,null,null,null,null,null,null,"Total"]
[null,"Questions",null,null,{"$f":"Course_Answers!H7","v":"R"},null,null,null,null,null,null,null,null,null,null,null,null,null,null,null,"Questions",null,null,{"$f":"E11","v":"R"}]
[null,"Control Letter",null,null,null,null,null,null,null,null,null,null,null,null,null,null,null,null,null,null,"Control Letter"]
[]
[null,"Control Card",null,null,"Course : Fractions Name :",null,null,null,null,null,null,null,null,null,null,null,"Total",null,null,null,"Control Card",null,null,"Course : Fractions Name :",null,null,null,null,null,null,null,null,null,null,null,"Total"]
[null,"Questions",null,null,{"$f":"Course_Answers!H9","v":"S"},null,null,null,null,null,null,null,null,null,null,null,null,null,null,null,"Questions",null,null,{"$f":"E15","v":"S"}]
[null,"Control Letter",null,null,null,null,null,null,null,null,null,null,null,null,null,null,null,null,null,null,"Control Letter"]
[]
[null,"Control Card",null,null,"Course : Fractions Name :",null,null,null,null,null,null,null,null,null,null,null,"Total",null,null,null,"Control Card",null,null,"Course : Fractions Name :",null,null,null,null,null,null,null,null,null,null,null,"Total"]
[null,"Questions Answer",null,null,{"$f":"Course_Answers!H11","v":"B"},null,null,null,null,null,null,null,null,null,null,null,null,null,null,null,"Questions Answer",null,null,{"$f":"E19","v":"B"}]
[null,"Control Letter",null,null,null,null,null,null,null,null,null,null,null,null,null,null,null,null,null,null,"Control Letter"]

{"sheet":"MASTER_Q's_31_65","index":3,"n_rows":38,"n_cols":14,"rows_kept":38,"cut":false,"hidden":true,"merged":[[36,5,36,6],[37,5,37,6],[34,5,34,6],[35,5,35,6],[32,5,32,6],[33,5,33,6],[30,5,30,6],[31,5,31,6],[28,5,28,6],[29,5,29,6],[26,5,26,6],[27,5,27,6],[24,5,24,6],[25,5,25,6],[22,5,22,6],[23,5,23,6],[20,5,20,6],[21,5,21,6],[18,5,18,6],[19,5,19,6],[14,5,14,6],[5,5,5,6],[7,5,7,6],[8,5,8,6],[9,5,9,6],[15,5,15,6],[16,5,16,6],[17,5,17,6],[11,5,11,6],[3,2,3,8],[1,1,2,9],[6,5,6,6],[13,5,13,6],[10,5,10,6],[12,5,12,6],[4,5,4,6]]}
[]
[null,"Maths Orienteering  Question Sheet - Integers"]
[]
[null,"Q","ONLY Complete the 5 Questions                                relevant to your current course",null,null,null,null,null,null,"Answer","Answer"]
[null,"Starter",null,{"$f":"L5","v":11},"+",{"$f":"M5","v":20},null,null,null,null,31,{"$f":"ROUND(RAND()*(100-5)+5,0)","v":11},{"$f":"N5-L5","v":20},{"$f":"K5","v":31}]
[null,"A",null,{"$f":"L6","v":-81},"+",{"$f":"M6","v":113},null,null,null,null,32,{"$f":"ROUND(RAND()*((-40)-(-100))+(-100),0)","v":-81},113,32]
[null,"B",null,{"$f":"L7","v":-99},"-",{"$f":"-M7","v":-132},null,null,null,null,33,{"$f":"ROUND(RAND()*((-10)-(-101))+(-101),0)","v":-99},132,33]
[null,"C",null,{"$f":"L8","v":28},"-",{"$f":"-M8","v":-6},null,null,null,null,34,{"$f":"ROUND(RAND()*(100-5)+5,0)","v":28},6,34]
[null,"D",null,{"$f":"L9","v":66},"+",{"$f":"M9","v":-31},null,null,null,null,35,{"$f":"ROUND(RAND()*(100-5)+5,0)","v":66},-31,35]
[null,"E",null,{"$f":"L10","v":7},"+",{"$f":"M10","v":29},null,null,null,null,36,{"$f":"ROUND(RAND()*(100-5)+5,0)","v":7},29,36]
[null,"F",null,{"$f":"L11","v":-50},"+",{"$f":"M11","v":87},null,null,null,null,37,{"$f":"ROUND(RAND()*((-40)-(-100))+(-100),0)","v":-50},87,37]
[null,"G",null,{"$f":"L12","v":-70},"+",{"$f":"M12","v":104},null,null,null,null,34,{"$f":"ROUND(RAND()*((-40)-(-100))+(-100),0)","v":-70},{"$f":"N12-L12","v":104},{"$f":"K12","v":34}]
[null,"H",null,{"$f":"L13","v":-98},"-",{"$f":"-M13","v":-137},null,null,null,null,39,{"$f":"ROUND(RAND()*((-10)-(-101))+(-101),0)","v":-98},137,39]
[null,"J",null,{"$f":"L14","v":39},"-",{"$f":"-M14","v":-2},null,null,null,null,41,{"$f":"ROUND(RAND()*(100-5)+5,0)","v":39},2,41]
[null,"K",null,{"$f":"L15","v":81},"+",{"$f":"M15","v":-39},null,null,null,null,42,{"$f":"ROUND(RAND()*(100-5)+5,0)","v":81},-39,42]
[null,"L",null,{"$f":"L16","v":46},"+",{"$f":"M16","v":-3},null,null,null,null,43,{"$f":"ROUND(RAND()*(100-5)+5,0)","v":46},-3,43]
[null,"M",null,{"$f":"L17","v":-46},"+",{"$f":"M17","v":90},null,null,null,null,44,{"$f":"ROUND(RAND()*((-40)-(-100))+(-100),0)","v":-46},90,44]
[null,"N",null,{"$f":"L18","v":-32},"-",{"$f":"-M18","v":-77},null,null,null,null,45,{"$f":"ROUND(RAND()*((-10)-(-101))+(-101),0)","v":-32},77,45]
[null,"O",null,{"$f":"L19","v":58},"-",{"$f":"-M19","v":12},null,null,null,null,46,{"$f":"ROUND(RAND()*(100-5)+5,0)","v":58},-12,46]
[null,"P",null,{"$f":"L20","v":73},"+",{"$f":"M20","v":-26},null,null,null,null,47,{"$f":"ROUND(RAND()*(100-5)+5,0)","v":73},-26,47]
[null,"Q",null,{"$f":"L21","v":66},"+",{"$f":"M21","v":-18},null,null,null,null,48,{"$f":"ROUND(RAND()*(100-5)+5,0)","v":66},-18,48]
[null,"R",null,{"$f":"L22","v":-70},"+",{"$f":"M22","v":119},null,null,null,null,49,{"$f":"ROUND(RAND()*((-40)-(-100))+(-100),0)","v":-70},119,49]
[null,"S",null,{"$f":"L23","v":-23},"-",{"$f":"-M23","v":-73},null,null,null,null,50,{"$f":"ROUND(RAND()*((-10)-(-101))+(-101),0)","v":-23},73,50]
[null,"T",null,{"$f":"L24","v":46},"-",{"$f":"-M24","v":-5},null,null,null,null,51,{"$f":"ROUND(RAND()*(100-5)+5,0)","v":46},5,51]
[null,"U",null,{"$f":"L25","v":72},"+",{"$f":"M25","v":-20},null,null,null,null,52,{"$f":"ROUND(RAND()*(100-5)+5,0)","v":72},-20,52]
[null,"V",null,{"$f":"L26","v":33},"+",{"$f":"M26","v":20},null,null,null,null,53,{"$f":"ROUND(RAND()*(100-5)+5,0)","v":33},20,53]
[null,"W",null,{"$f":"L27","v":-59},"+",{"$f":"M27","v":113},null,null,null,null,54,{"$f":"ROUND(RAND()*((-40)-(-100))+(-100),0)","v":-59},113,54]
[null,"X",null,{"$f":"L28","v":-19},"-",{"$f":"-M28","v":-74},null,null,null,null,55,{"$f":"ROUND(RAND()*((-10)-(-101))+(-101),0)","v":-19},74,55]
[null,"Y",null,{"$f":"L29","v":73},"-",{"$f":"-M29","v":17},null,null,null,null,56,{"$f":"ROUND(RAND()*(100-5)+5,0)","v":73},-17,56]
[null,"Z",null,{"$f":"L30","v":7},"+",{"$f":"M30","v":50},null,null,null,null,57,{"$f":"ROUND(RAND()*(100-5)+5,0)","v":7},50,57]
[null,"A1",null,{"$f":"L31","v":69},"+",{"$f":"M31","v":-11},null,null,null,null,58,{"$f":"ROUND(RAND()*(100-5)+5,0)","v":69},-11,58]
[null,"A2",null,{"$f":"L32","v":-73},"+",{"$f":"M32","v":132},null,null,null,null,59,{"$f":"ROUND(RAND()*((-40)-(-100))+(-100),0)","v":-73},132,59]
[null,"A3",null,{"$f":"L33","v":-66},"-",{"$f":"-M33","v":-126},null,null,null,null,60,{"$f":"ROUND(RAND()*((-10)-(-101))+(-101),0)","v":-66},126,60]
[null,"A4",null,{"$f":"L34","v":14},"-",{"$f":"-M34","v":-47},null,null,null,null,61,{"$f":"ROUND(RAND()*(100-5)+5,0)","v":14},47,61]
[null,"A5",null,{"$f":"L35","v":59},"+",{"$f":"M35","v":3},null,null,null,null,62,{"$f":"ROUND(RAND()*(100-5)+5,0)","v":59},3,62]
[null,"A6",null,{"$f":"L36","v":-77},"-",{"$f":"-M36","v":-140},null,null,null,null,63,{"$f":"ROUND(RAND()*((-10)-(-101))+(-101),0)","v":-77},140,63]
[null,"A7",null,{"$f":"L37","v":95},"-",{"$f":"-M37","v":31},null,null,null,null,64,{"$f":"ROUND(RAND()*(100-5)+5,0)","v":95},-31,64]
[null,"A8",null,{"$f":"L38","v":67},"+",{"$f":"M38","v":-2},null,null,null,null,65,{"$f":"ROUND(RAND()*(100-5)+5,0)","v":67},-2,65]

{"sheet":"MASTER_Q's_66_100","index":4,"n_rows":40,"n_cols":14,"rows_kept":40,"cut":false,"hidden":true,"merged":[[7,5,7,6],[11,5,11,6],[1,1,2,9],[3,2,3,8],[4,5,4,6],[5,5,5,6],[6,5,6,6],[20,5,20,6],[8,5,8,6],[9,5,9,6],[10,5,10,6],[12,5,12,6],[13,5,13,6],[14,5,14,6],[15,5,15,6],[16,5,16,6],[17,5,17,6],[18,5,18,6],[19,5,19,6],[32,5,32,6],[21,5,21,6],[22,5,22,6],[23,5,23,6],[24,5,24,6],[25,5,25,6],[26,5,26,6],[27,5,27,6],[28,5,28,6],[29,5,29,6],[30,5,30,6],[31,5,31,6],[39,5,39,6],[33,5,33,6],[34,5,34,6],[35,5,35,6],[36,5,36,6],[37,5,37,6],[38,5,38,6]]}
[]
[null,"Maths Orienteering  Question Sheet - Integers"]
[]
[null,"Q","ONLY Complete the 5 Questions                                relevant to your current course",null,null,null,null,null,null,"Answer","Answer"]
[null,"Starter",null,{"$f":"L5","v":43},"+",{"$f":"M5","v":23},null,null,null,null,66,{"$f":"ROUND(RAND()*(100-5)+5,0)","v":43},{"$f":"N5-L5","v":23},{"$f":"K5","v":66}]
[null,"A",null,{"$f":"L6","v":-81},"+",{"$f":"M6","v":148},null,null,null,null,67,{"$f":"ROUND(RAND()*((-40)-(-100))+(-100),0)","v":-81},148,67]
[null,"B",null,{"$f":"L7","v":-56},"-",{"$f":"-M7","v":-124},null,null,null,null,68,{"$f":"ROUND(RAND()*((-10)-(-101))+(-101),0)","v":-56},124,68]
[null,"C",null,{"$f":"L8","v":61},"-",{"$f":"-M8","v":-8},null,null,null,null,69,{"$f":"ROUND(RAND()*(100-5)+5,0)","v":61},8,69]
[null,"D",null,{"$f":"L9","v":32},"+",{"$f":"M9","v":38},null,null,null,null,70,{"$f":"ROUND(RAND()*(100-5)+5,0)","v":32},38,70]
[null,"E",null,{"$f":"L10","v":10},"+",{"$f":"M10","v":61},null,null,null,null,71,{"$f":"ROUND(RAND()*(100-5)+5,0)","v":10},61,71]
[null,"F",null,{"$f":"L11","v":-73},"+",{"$f":"M11","v":145},null,null,null,null,72,{"$f":"ROUND(RAND()*((-40)-(-100))+(-100),0)","v":-73},145,72]
[null,"G",null,{"$f":"L12","v":-62},"-",{"$f":"-M12","v":-135},null,null,null,null,73,{"$f":"ROUND(RAND()*((-10)-(-101))+(-101),0)","v":-62},{"$f":"N12-L12","v":135},{"$f":"K12","v":73}]
[null,"H",null,{"$f":"L13","v":-45},"-",{"$f":"-M13","v":-118},null,null,null,null,73,{"$f":"ROUND(RAND()*((-10)-(-101))+(-101),0)","v":-45},118,73]
[null,"J",null,{"$f":"L14","v":89},"-",{"$f":"-M14","v":15},null,null,null,null,74,{"$f":"ROUND(RAND()*(100-5)+5,0)","v":89},-15,74]
[null,"K",null,{"$f":"L15","v":82},"+",{"$f":"M15","v":-7},null,null,null,null,75,{"$f":"ROUND(RAND()*(100-5)+5,0)","v":82},-7,75]
[null,"L",null,{"$f":"L16","v":63},"+",{"$f":"M16","v":13},null,null,null,null,76,{"$f":"ROUND(RAND()*(100-5)+5,0)","v":63},13,76]
[null,"M",null,{"$f":"L17","v":-76},"+",{"$f":"M17","v":153},null,null,null,null,77,{"$f":"ROUND(RAND()*((-40)-(-100))+(-100),0)","v":-76},153,77]
[null,"N",null,{"$f":"L18","v":-93},"-",{"$f":"-M18","v":-171},null,null,null,null,78,{"$f":"ROUND(RAND()*((-10)-(-101))+(-101),0)","v":-93},171,78]
[null,"O",null,{"$f":"L19","v":14},"-",{"$f":"-M19","v":-65},null,null,null,null,79,{"$f":"ROUND(RAND()*(100-5)+5,0)","v":14},65,79]
[null,"P",null,{"$f":"L20","v":40},"+",{"$f":"M20","v":40},null,null,null,null,80,{"$f":"ROUND(RAND()*(100-5)+5,0)","v":40},40,80]
[null,"Q",null,{"$f":"L21","v":8},"+",{"$f":"M21","v":73},null,null,null,null,81,{"$f":"ROUND(RAND()*(100-5)+5,0)","v":8},73,81]
[null,"R",null,{"$f":"L22","v":-93},"+",{"$f":"M22","v":175},null,null,null,null,82,{"$f":"ROUND(RAND()*((-40)-(-100))+(-100),0)","v":-93},175,82]
[null,"S",null,{"$f":"L23","v":-100},"-",{"$f":"-M23","v":-183},null,null,null,null,83,{"$f":"ROUND(RAND()*((-10)-(-101))+(-101),0)","v":-100},183,83]
[null,"T",null,{"$f":"L24","v":100},"-",{"$f":"-M24","v":16},null,null,null,null,84,{"$f":"ROUND(RAND()*(100-5)+5,0)","v":100},-16,84]
[null,"U",null,{"$f":"L25","v":9},"+",{"$f":"M25","v":76},null,null,null,null,85,{"$f":"ROUND(RAND()*(100-5)+5,0)","v":9},76,85]
[null,"V",null,{"$f":"L26","v":98},"+",{"$f":"M26","v":-12},null,null,null,null,86,{"$f":"ROUND(RAND()*(100-5)+5,0)","v":98},-12,86]
[null,"W",null,{"$f":"L27","v":-66},"+",{"$f":"M27","v":153},null,null,null,null,87,{"$f":"ROUND(RAND()*((-40)-(-100))+(-100),0)","v":-66},153,87]
[null,"X",null,{"$f":"L28","v":-37},"-",{"$f":"-M28","v":-125},null,null,null,null,88,{"$f":"ROUND(RAND()*((-10)-(-101))+(-101),0)","v":-37},125,88]
[null,"Y",null,{"$f":"L29","v":32},"-",{"$f":"-M29","v":-57},null,null,null,null,89,{"$f":"ROUND(RAND()*(100-5)+5,0)","v":32},57,89]
[null,"Z",null,{"$f":"L30","v":27},"+",{"$f":"M30","v":63},null,null,null,null,90,{"$f":"ROUND(RAND()*(100-5)+5,0)","v":27},63,90]
[null,"A1",null,{"$f":"L31","v":69},"+",{"$f":"M31","v":22},null,null,null,null,91,{"$f":"ROUND(RAND()*(100-5)+5,0)","v":69},22,91]
[null,"A2",null,{"$f":"L32","v":-87},"+",{"$f":"M32","v":179},null,null,null,null,92,{"$f":"ROUND(RAND()*((-40)-(-100))+(-100),0)","v":-87},179,92]
[null,"A3",null,{"$f":"L33","v":-56},"-",{"$f":"-M33","v":-149},null,null,null,null,93,{"$f":"ROUND(RAND()*((-10)-(-101))+(-101),0)","v":-56},149,93]
[null,"A4",null,{"$f":"L34","v":81},"-",{"$f":"-M34","v":-13},null,null,null,null,94,{"$f":"ROUND(RAND()*(100-5)+5,0)","v":81},13,94]
[null,"A5",null,{"$f":"L35","v":251},"+",{"$f":"M35","v":-156},null,null,null,null,95,{"$f":"ROUND(RAND()*(300-5)+5,0)","v":251},-156,95]
[null,"A6",null,{"$f":"L36","v":-97},"-",{"$f":"-M36","v":-193},null,null,null,null,96,{"$f":"ROUND(RAND()*((-10)-(-101))+(-101),0)","v":-97},193,96]
[null,"A7",null,{"$f":"L37","v":25},"-",{"$f":"-M37","v":-72},null,null,null,null,97,{"$f":"ROUND(RAND()*(100-5)+5,0)","v":25},72,97]
[null,"A8",null,{"$f":"L38","v":37},"+",{"$f":"M38","v":61},null,null,null,null,98,{"$f":"ROUND(RAND()*(130-5)+5,0)","v":37},61,98]
[null,"A9",null,{"$f":"L39","v":91},"-",{"$f":"-M39","v":-8},null,null,null,null,99,{"$f":"ROUND(RAND()*(100-5)+5,0)","v":91},8,{"$f":"K39","v":99}]
[null,"A10",null,{"$f":"L40","v":130},"+",{"$f":"M40","v":-30},null,null,null,null,100,{"$f":"ROUND(RAND()*(300-5)+5,0)","v":130},-30,100]

{"sheet":"Course_Questions_CW_31_65","index":5,"n_rows":29,"n_cols":27,"rows_kept":29,"cut":false,"hidden":false,"merged":[[5,1,6,1],[5,4,6,4],[5,5,6,6],[0,1,1,8],[2,2,2,8],[3,1,4,1],[3,4,4,4],[3,5,4,6],[7,1,8,1],[7,4,8,4],[7,5,8,6],[9,1,10,1],[9,4,10,4],[9,5,10,6],[11,1,12,1],[11,4,12,4],[11,5,12,6],[13,1,14,1],[13,4,14,4],[13,5,14,6],[15,1,16,1],[15,4,16,4],[15,5,16,6],[17,1,18,1],[17,4,18,4],[17,5,18,6],[19,1,20,1],[19,4,20,4],[19,5,20,6],[21,1,22,1],[21,4,22,4],[21,5,22,6],[7,19,8,20],[9,19,10,20],[3,19,4,20],[5,19,6,20],[27,1,28,1],[27,4,28,4],[27,5,28,6],[23,1,24,1],[23,4,24,4],[23,5,24,6],[25,1,26,1],[25,4,26,4],[25,5,26,6],[15,15,16,15],[15,18,16,18],[15,19,16,20],[11,19,12,20],[13,19,14,20],[9,15,10,15],[9,18,10,18],[11,15,12,15],[11,18,12,18],[13,15,14,15],[13,18,14,18],[3,15,4,15],[3,18,4,18],[5,15,6,15],[5,18,6,18],[7,15,8,15],[7,18,8,18],[17,15,18,15],[17,18,18,18],[17,19,18,20],[19,15,20,15],[19,18,20,18],[19,19,20,20],[21,15,22,15],[21,18,22,18],[21,19,22,20],[23,15,24,15],[23,18,24,18],[23,19,24,20],[25,15,26,15],[25,18,26,18],[25,19,26,20],[27,15,28,15],[27,18,28,18],[27,19,28,20]]}
[null,"Maths Orienteering  Question Sheet - Fractions (CW 1 - 5)"]
[]
[null,"Q","ONLY Complete the 5 Questions                                relevant to your current course",null,null,null,null,null,null,"Answer"]
[null,"A",null,{"$f":"K5","v":1},"of",{"$f":"M5","v":224},null,null,null,56,{"$f":"ROUND(RAND()*(50-1)+1,0)","v":37},{"$f":"K4+1","v":38},{"$f":"J4","v":56},null,null,"N",null,{"$f":"Y5","v":1},"of",{"$f":"AA5","v":427},null,null,null,61,{"$f":"ROUND(RAND()*(46-1)+1,0)","v":23},{"$f":"Y4+1","v":24},{"$f":"X4","v":61}]
[null,null,null,{"$f":"L5","v":4},null,null,null,null,null,null,{"$f":"GCD(K4,M4)","v":1},{"$f":"IF(K5=1,ROUND(RAND()*(10-3)+3,0),K5+1)","v":4},{"$f":"M4*L5/K5","v":224},null,null,null,null,{"$f":"Z5","v":7},null,null,null,null,null,null,{"$f":"GCD(Y4,AA4)","v":1},{"$f":"IF(Y5=1,ROUND(RAND()*(10-3)+3,0),Y5+1)","v":7},{"$f":"AA4*Z5/Y5","v":427}]
[null,"B",null,{"$f":"K7","v":1},"of",{"$f":"M7","v":585},null,null,null,65,{"$f":"ROUND(RAND()*(54-1)+1,0)","v":38},{"$f":"K6+1","v":39},{"$f":"J6","v":65},null,null,"O",null,{"$f":"Y7","v":1},"of",{"$f":"AA7","v":360},null,null,null,45,{"$f":"ROUND(RAND()*(64-1)+1,0)","v":7},{"$f":"Y6+1","v":8},{"$f":"X6","v":45}]
[null,null,null,{"$f":"L7","v":9},null,null,null,null,null,null,{"$f":"GCD(K6,M6)","v":1},{"$f":"IF(K7=1,ROUND(RAND()*(10-3)+3,0),K7+1)","v":9},{"$f":"M6*L7/K7","v":585},null,null,null,null,{"$f":"Z7","v":8},null,null,null,null,null,null,{"$f":"GCD(Y6,AA6)","v":1},{"$f":"IF(Y7=1,ROUND(RAND()*(10-3)+3,0),Y7+1)","v":8},{"$f":"AA6*Z7/Y7","v":360}]
[null,"C",null,{"$f":"K9","v":2},"of",{"$f":"M9","v":75},null,null,null,50,{"$f":"ROUND(RAND()*(51-1)+1,0)","v":8},{"$f":"K8+1","v":9},{"$f":"J8","v":50},null,null,"P",null,{"$f":"Y9","v":1},"of",{"$f":"AA9","v":530},null,null,null,53,{"$f":"ROUND(RAND()*(39-1)+1,0)","v":29},{"$f":"Y8+1","v":30},{"$f":"X8","v":53}]
[null,null,null,{"$f":"L9","v":3},null,null,null,null,null,null,{"$f":"GCD(K8,M8)","v":2},{"$f":"IF(K9=1,ROUND(RAND()*(10-3)+3,0),K9+1)","v":3},{"$f":"M8*L9/K9","v":75},null,null,null,null,{"$f":"Z9","v":10},null,null,null,null,null,null,{"$f":"GCD(Y8,AA8)","v":1},{"$f":"IF(Y9=1,ROUND(RAND()*(10-3)+3,0),Y9+1)","v":10},{"$f":"AA8*Z9/Y9","v":530}]
[null,"D",null,{"$f":"K11","v":4},"of",{"$f":"M11","v":45},null,null,null,36,{"$f":"ROUND(RAND()*(42-1)+1,0)","v":20},{"$f":"K10+1","v":21},{"$f":"J10","v":36},null,null,"Q",null,{"$f":"Y11","v":1},"of",{"$f":"AA11","v":329},null,null,null,47,{"$f":"ROUND(RAND()*(38-1)+1,0)","v":38},{"$f":"Y10+1","v":39},{"$f":"X10","v":47}]
[null,null,null,{"$f":"L11","v":5},null,null,null,null,null,null,{"$f":"GCD(K10,M10)","v":4},{"$f":"IF(K11=1,ROUND(RAND()*(10-3)+3,0),K11+1)","v":5},{"$f":"M10*L11/K11","v":45},null,null,null,null,{"$f":"Z11","v":7},null,null,null,null,null,null,{"$f":"GCD(Y10,AA10)","v":1},{"$f":"IF(Y11=1,ROUND(RAND()*(10-3)+3,0),Y11+1)","v":7},{"$f":"AA10*Z11/Y11","v":329}]
[null,"E",null,{"$f":"K13","v":2},"of",{"$f":"M13","v":51},null,null,null,34,{"$f":"ROUND(RAND()*(56-1)+1,0)","v":36},{"$f":"K12+1","v":37},{"$f":"J12","v":34},null,null,"R",null,{"$f":"Y13","v":1},"of",{"$f":"AA13","v":172},null,null,null,43,{"$f":"ROUND(RAND()*(42-1)+1,0)","v":6},{"$f":"Y12+1","v":7},{"$f":"X12","v":43}]
[null,null,null,{"$f":"L13","v":3},null,null,null,null,null,null,{"$f":"GCD(K12,M12)","v":2},{"$f":"IF(K13=1,ROUND(RAND()*(10-3)+3,0),K13+1)","v":3},{"$f":"M12*L13/K13","v":51},null,null,null,null,{"$f":"Z13","v":4},null,null,null,null,null,null,{"$f":"GCD(Y12,AA12)","v":1},{"$f":"IF(Y13=1,ROUND(RAND()*(10-3)+3,0),Y13+1)","v":4},{"$f":"AA12*Z13/Y13","v":172}]
[null,"F",null,{"$f":"K15","v":1},"of",{"$f":"M15","v":460},null,null,null,46,{"$f":"ROUND(RAND()*(47-1)+1,0)","v":45},{"$f":"K14+1","v":46},{"$f":"J14","v":46},null,null,"S",null,{"$f":"Y15","v":1},"of",{"$f":"AA15","v":540},null,null,null,54,{"$f":"ROUND(RAND()*(53-1)+1,0)","v":43},{"$f":"Y14+1","v":44},{"$f":"X14","v":54}]
[null,null,null,{"$f":"L15","v":10},null,null,null,null,null,null,{"$f":"GCD(K14,M14)","v":1},{"$f":"IF(K15=1,ROUND(RAND()*(10-3)+3,0),K15+1)","v":10},{"$f":"M14*L15/K15","v":460},null,null,null,null,{"$f":"Z15","v":10},null,null,null,null,null,null,{"$f":"GCD(Y14,AA14)","v":1},{"$f":"IF(Y15=1,ROUND(RAND()*(10-3)+3,0),Y15+1)","v":10},{"$f":"AA14*Z15/Y15","v":540}]
[null,"G",null,{"$f":"K17","v":2},"of",{"$f":"M17","v":48},null,null,null,32,{"$f":"ROUND(RAND()*(34-1)+1,0)","v":26},{"$f":"K16+1","v":27},{"$f":"J16","v":32},null,null,"T",null,{"$f":"Y17","v":1},"of",{"$f":"AA17","v":354},null,null,null,59,{"$f":"ROUND(RAND()*(60-1)+1,0)","v":12},{"$f":"Y16+1","v":13},{"$f":"X16","v":59}]
[null,null,null,{"$f":"L17","v":3},null,null,null,null,null,null,{"$f":"GCD(K16,M16)","v":2},{"$f":"IF(K17=1,ROUND(RAND()*(10-3)+3,0),K17+1)","v":3},{"$f":"M16*L17/K17","v":48},null,null,null,null,{"$f":"Z17","v":6},null,null,null,null,null,null,{"$f":"GCD(Y16,AA16)","v":1},{"$f":"IF(Y17=1,ROUND(RAND()*(10-3)+3,0),Y17+1)","v":6},{"$f":"AA16*Z17/Y17","v":354}]
[null,"H",null,{"$f":"K19","v":9},"of",{"$f":"M19","v":70},null,null,null,63,{"$f":"ROUND(RAND()*(36-1)+1,0)","v":9},{"$f":"K18+1","v":10},{"$f":"J18","v":63},null,null,"U",null,{"$f":"Y19","v":10},"of",{"$f":"AA19","v":44},null,null,null,40,{"$f":"ROUND(RAND()*(40-1)+1,0)","v":30},{"$f":"Y18+1","v":31},{"$f":"X18","v":40}]
[null,null,null,{"$f":"L19","v":10},null,null,null,null,null,null,{"$f":"GCD(K18,M18)","v":9},{"$f":"IF(K19=1,ROUND(RAND()*(10-3)+3,0),K19+1)","v":10},{"$f":"M18*L19/K19","v":70},null,null,null,null,{"$f":"Z19","v":11},null,null,null,null,null,null,{"$f":"GCD(Y18,AA18)","v":10},{"$f":"IF(Y19=1,ROUND(RAND()*(10-3)+3,0),Y19+1)","v":11},{"$f":"AA18*Z19/Y19","v":44}]
[null,"I",null,{"$f":"K21","v":1},"of",{"$f":"M21","v":234},null,null,null,39,{"$f":"ROUND(RAND()*(48-1)+1,0)","v":4},{"$f":"K20+1","v":5},{"$f":"J20","v":39},null,null,"V",null,{"$f":"Y21","v":4},"of",{"$f":"AA21","v":55},null,null,null,44,{"$f":"ROUND(RAND()*(44-1)+1,0)","v":32},{"$f":"Y20+1","v":33},{"$f":"X20","v":44}]
[null,null,null,{"$f":"L21","v":6},null,null,null,null,null,null,{"$f":"GCD(K20,M20)","v":1},{"$f":"IF(K21=1,ROUND(RAND()*(10-3)+3,0),K21+1)","v":6},{"$f":"M20*L21/K21","v":234},null,null,null,null,{"$f":"Z21","v":5},null,null,null,null,null,null,{"$f":"GCD(Y20,AA20)","v":4},{"$f":"IF(Y21=1,ROUND(RAND()*(10-3)+3,0),Y21+1)","v":5},{"$f":"AA20*Z21/Y21","v":55}]
[null,"J",null,{"$f":"K23","v":2},"of",{"$f":"M23","v":57},null,null,null,38,{"$f":"ROUND(RAND()*(37-1)+1,0)","v":36},{"$f":"K22+1","v":37},{"$f":"J22","v":38},null,null,"W",null,{"$f":"Y23","v":1},"of",{"$f":"AA23","v":360},null,null,null,60,{"$f":"ROUND(RAND()*(32-1)+1,0)","v":7},{"$f":"Y22+1","v":8},{"$f":"X22","v":60}]
[null,null,null,{"$f":"L23","v":3},null,null,null,null,null,null,{"$f":"GCD(K22,M22)","v":2},{"$f":"IF(K23=1,ROUND(RAND()*(10-3)+3,0),K23+1)","v":3},{"$f":"M22*L23/K23","v":57},null,null,null,null,{"$f":"Z23","v":6},null,null,null,null,null,null,{"$f":"GCD(Y22,AA22)","v":1},{"$f":"IF(Y23=1,ROUND(RAND()*(10-3)+3,0),Y23+1)","v":6},{"$f":"AA22*Z23/Y23","v":360}]
[null,"K",null,{"$f":"K25","v":1},"of",{"$f":"M25","v":459},null,null,null,51,{"$f":"ROUND(RAND()*(49-1)+1,0)","v":16},{"$f":"K24+1","v":17},{"$f":"J24","v":51},null,null,"X",null,{"$f":"Y25","v":1},"of",{"$f":"AA25","v":296},null,null,null,37,{"$f":"ROUND(RAND()*(59-1)+1,0)","v":29},{"$f":"Y24+1","v":30},{"$f":"X24","v":37}]
[null,null,null,{"$f":"L25","v":9},null,null,null,null,null,null,{"$f":"GCD(K24,M24)","v":1},{"$f":"IF(K25=1,ROUND(RAND()*(10-3)+3,0),K25+1)","v":9},{"$f":"M24*L25/K25","v":459},null,null,null,null,{"$f":"Z25","v":8},null,null,null,null,null,null,{"$f":"GCD(Y24,AA24)","v":1},{"$f":"IF(Y25=1,ROUND(RAND()*(10-3)+3,0),Y25+1)","v":8},{"$f":"AA24*Z25/Y25","v":296}]
[null,"L",null,{"$f":"K27","v":1},"of",{"$f":"M27","v":245},null,null,null,49,{"$f":"ROUND(RAND()*(61-1)+1,0)","v":40},{"$f":"K26+1","v":41},{"$f":"J26","v":49},null,null,"Y",null,{"$f":"Y27","v":3},"of",{"$f":"AA27","v":64},null,null,null,48,{"$f":"ROUND(RAND()*(65-1)+1,0)","v":63},{"$f":"Y26+1","v":64},{"$f":"X26","v":48}]
[null,null,null,{"$f":"L27","v":5},null,null,null,null,null,null,{"$f":"GCD(K26,M26)","v":1},{"$f":"IF(K27=1,ROUND(RAND()*(10-3)+3,0),K27+1)","v":5},{"$f":"M26*L27/K27","v":245},null,null,null,null,{"$f":"Z27","v":4},null,null,null,null,null,null,{"$f":"GCD(Y26,AA26)","v":3},{"$f":"IF(Y27=1,ROUND(RAND()*(10-3)+3,0),Y27+1)","v":4},{"$f":"AA26*Z27/Y27","v":64}]
[null,"M",null,{"$f":"K29","v":6},"of",{"$f":"M29","v":49},null,null,null,42,{"$f":"ROUND(RAND()*(62-1)+1,0)","v":54},{"$f":"K28+1","v":55},{"$f":"J28","v":42},null,null,"Z",null,{"$f":"Y29","v":2},"of",{"$f":"AA29","v":93},null,null,null,62,{"$f":"ROUND(RAND()*(65-1)+1,0)","v":64},{"$f":"Y28+1","v":65},{"$f":"X28","v":62}]
[null,null,null,{"$f":"L29","v":7},null,null,null,null,null,null,{"$f":"GCD(K28,M28)","v":6},{"$f":"IF(K29=1,ROUND(RAND()*(10-3)+3,0),K29+1)","v":7},{"$f":"M28*L29/K29","v":49},null,null,null,null,{"$f":"Z29","v":3},null,null,null,null,null,null,{"$f":"GCD(Y28,AA28)","v":2},{"$f":"IF(Y29=1,ROUND(RAND()*(10-3)+3,0),Y29+1)","v":3},{"$f":"AA28*Z29/Y29","v":93}]

{"sheet":"Info_Sheet","index":6,"n_rows":40,"n_cols":6,"rows_kept":40,"cut":false,"hidden":false,"merged":[[39,1,39,6],[1,1,1,6],[3,1,3,6],[5,1,7,6],[9,1,10,6],[12,1,14,6],[15,1,16,6]]}
[]
[null,"Produced by mathsrevision.com in conjunction with St.Andrew’s OC (Glasgow)"]
[]
[null,"Name(s) - ________________________ Class _____   Date ______"]
[]
[null,"Orienteering challenges participants to navigate within an area with the aid of a specially drawn map.  Our lesson to-day requires you to combine lots of mathematical & orienteering skills in a practical way."]
[]
[]
[]
[null,"The Orienteering map of the school you have shows the location of 35 Controls. You need to find some of these sites. The Key explains the map symbols in use."]
[]
[]
[null,"The Triangle encased in the circle is where we Start & Finish each course. Orienteering is a quiet activity & there is no need to disturb any other classes. Nobody should cut through the school building or leave the school grounds. The Car Park should be treated as an “Out of Bounds” area."]
[]
[]
[null,"When we arrive at the Start a Control Card shall be issued to you. The large letter shown tells you which problem – see other side of this sheet – you need to solve & then go & find the Control with this Code. When you find the Control there will be a Code Letter on the marker, this gives you the next sum to be solved. There are 5 such tasks on each course."]
[]
[]
[]
[null,null,"Code No.","Description","Code No.","Description"]
[null,null,31,"Light",49,"Fence Corner"]
[null,null,32,"Building / Drainpipe",50,"Fence Corner"]
[null,null,33,"Corner of Building",51,"High Fence End"]
[null,null,34,"Corner of Building",52,"Floodlight"]
[null,null,35,"Light",53,"Corner of Building"]
[null,null,36,"Light",54,"At Seats / Drainpipe"]
[null,null,37,"High Fence End",55,"Corner of Building"]
[null,null,38,"Fence Corner",56,"Light"]
[null,null,39,"High Fence End",57,"Corner of Building"]
[null,null,40,"Floodlight",58,"Floodlight"]
[null,null,41,"High Fence End",59,"Gate South Side"]
[null,null,42,"Corner of Building",60,"Light"]
[null,null,43,"Fence Corner",61,"Light"]
[null,null,44,"Corner of Building",62,"Corner of Building"]
[null,null,45,"Corner of Building",63,"Light"]
[null,null,46,"Corner of Building",64,"Light"]
[null,null,47,"Light",65,"Doorway West / Drainpipe"]
[null,null,48,"Fence Corner"]
[]
[null,"Kirkintilloch High"]